BEGIN:VCALENDAR
VERSION:2.0
PRODID:-//Little Toller Books - ECPv6.15.11//NONSGML v1.0//EN
CALSCALE:GREGORIAN
METHOD:PUBLISH
X-ORIGINAL-URL:https://www.littletoller.co.uk
X-WR-CALDESC:Events for Little Toller Books
REFRESH-INTERVAL;VALUE=DURATION:PT1H
X-Robots-Tag:noindex
X-PUBLISHED-TTL:PT1H
BEGIN:VTIMEZONE
TZID:UTC
BEGIN:STANDARD
TZOFFSETFROM:+0000
TZOFFSETTO:+0000
TZNAME:UTC
DTSTART:20180101T000000
END:STANDARD
END:VTIMEZONE
BEGIN:VEVENT
DTSTART;TZID=UTC:20230227T140000
DTEND;TZID=UTC:20230227T153000
DTSTAMP:20260422T181356
CREATED:20221219T161748Z
LAST-MODIFIED:20221219T161927Z
UID:34401-1677506400-1677511800@www.littletoller.co.uk
SUMMARY:Sarah Acton at Dorset Museum
DESCRIPTION:Sarah Acton in conversation with Dom Moxom\, speaking about Seining Along Chesil\, at the Dorset Museum. FREE event in the Community Room Space.
URL:https://www.littletoller.co.uk/event/sarah-acton-at-dorset-museum/
LOCATION:Dorset Museum\, High Street West\, Dorchester\, Dorset\, DT1 1XA\, United Kingdom
CATEGORIES:Book launches and author talks
ATTACH;FMTTYPE=image/jpeg:https://www.littletoller.co.uk/wp-content/uploads/2022/12/1972-44.jpg
END:VEVENT
BEGIN:VEVENT
DTSTART;TZID=UTC:20230210T143000
DTEND;TZID=UTC:20230210T160000
DTSTAMP:20260422T181356
CREATED:20221219T160850Z
LAST-MODIFIED:20221219T160913Z
UID:34395-1676039400-1676044800@www.littletoller.co.uk
SUMMARY:Sarah Acton at Sherborne Library
DESCRIPTION:The author Sarah Acton will be reading from and speaking about her book\, Seining Along Chesil\, at Sherborne Library. Free with a hot drink provided. Booking essential. Telephone: 01935 81263.
URL:https://www.littletoller.co.uk/event/sarah-acton-at-sherborne-library/
LOCATION:Sherborne Library\, Hound Street\, Sherborne\, dorset\, DT9 3AA\, United Kingdom
CATEGORIES:Book launches and author talks
ATTACH;FMTTYPE=image/jpeg:https://www.littletoller.co.uk/wp-content/uploads/2022/12/1972-22.jpg
END:VEVENT
BEGIN:VEVENT
DTSTART;TZID=UTC:20230116T140000
DTEND;TZID=UTC:20230116T153000
DTSTAMP:20260422T181356
CREATED:20221219T155009Z
LAST-MODIFIED:20230106T112442Z
UID:34387-1673877600-1673883000@www.littletoller.co.uk
SUMMARY:Sarah Acton and Gail McGarva at Woodmead Hall
DESCRIPTION:Sarah Acton will be in conversation with Gail McGarva at Woodmead Hall . £4 or £2 for Friends of Lyme Regis Museum. No prior booking required.
URL:https://www.littletoller.co.uk/event/sarah-acton-on-seining-along-chesil/
LOCATION:Woodmead Hall\, Hill Road\, Lyme Regis\, DT7 3PG\, United Kingdom
CATEGORIES:Book launches and author talks
ATTACH;FMTTYPE=image/jpeg:https://www.littletoller.co.uk/wp-content/uploads/2022/12/image-for-clearing-post.jpg
END:VEVENT
BEGIN:VEVENT
DTSTART;TZID=UTC:20230114T110000
DTEND;TZID=UTC:20230114T130000
DTSTAMP:20260422T181356
CREATED:20221219T155943Z
LAST-MODIFIED:20221219T155943Z
UID:34391-1673694000-1673701200@www.littletoller.co.uk
SUMMARY:Sarah Acton at Portland Library
DESCRIPTION:The author Sarah Acton will be speaking about her book\, Seining Along Chesil\, at Portland Library. Free\, with a hot drink provided. Prior booking essential: 01305 820171.
URL:https://www.littletoller.co.uk/event/sarah-acton-at-portland-library/
LOCATION:Portland Library\, The Straits\, Easton\, Portland\, Dorset\, DT5 1HG\, United Kingdom
CATEGORIES:Book launches and author talks
ATTACH;FMTTYPE=image/jpeg:https://www.littletoller.co.uk/wp-content/uploads/2022/12/2012-07-12_8.jpg
END:VEVENT
BEGIN:VEVENT
DTSTART;TZID=UTC:20221213T190000
DTEND;TZID=UTC:20221213T203000
DTSTAMP:20260422T181356
CREATED:20221128T121744Z
LAST-MODIFIED:20221129T130051Z
UID:34150-1670958000-1670963400@www.littletoller.co.uk
SUMMARY:Martin Maudsley: Telling the Seasons
DESCRIPTION:Join our good friend and Little Toller bookseller\, Martin Maudsley for a special evening to celebrate his book Telling The Seasons (just published by History Press) on 13th December at 7pm at our bookshop in Beaminster.\nTelling the Seasons takes us on a journey through the year with stories\, customs and celebrations. Drawing on the folklore and nature from across the British Isles it is a colourful guide to how we continue to mark the seasons. Full of drawings\, sayings\, songs\, rhymes and recipes\, it’s a perfect Christmas gift. \nMartin\, a Dorset-based storyteller\, will be joined by fiddle-player Lucy Roberts\, weaving a special evening of folk tales and song. As well as a Q&A session\, Martin will sign copies of his book (£14.99\, usual price £15.99). Tickets include a glass of mulled wine (£5 from eventbrite).
URL:https://www.littletoller.co.uk/event/martin-maudsley-telling-the-seasons/
LOCATION:Little Toller Bookshop\, 2 Church Street\, Beaminster\, Dorset\, DT8 3AZ\, United Kingdom
CATEGORIES:Book launches and author talks
ATTACH;FMTTYPE=image/jpeg:https://www.littletoller.co.uk/wp-content/uploads/2022/11/martin-8-002.jpg
END:VEVENT
BEGIN:VEVENT
DTSTART;TZID=UTC:20221124T193000
DTEND;TZID=UTC:20221124T193000
DTSTAMP:20260422T181356
CREATED:20220908T144509Z
LAST-MODIFIED:20220912T084901Z
UID:33798-1669318200-1669318200@www.littletoller.co.uk
SUMMARY:Manni Coe and Reuben Coe at Bookish\, Crickhowell
DESCRIPTION:Manni Coe and Reuben Coe at independent bookseller\, Bookish\, Crickhowell. Tickets from the bookshop and online.
URL:https://www.littletoller.co.uk/event/manni-coe-and-reuben-coe-at-bookish-crickhowell/
LOCATION:bookish\, 18 High St\,\, Crickhowell\, Glamorganshire\, NP8 1BD\, United Kingdom
CATEGORIES:Book launches and author talks
ATTACH;FMTTYPE=image/jpeg:https://www.littletoller.co.uk/wp-content/uploads/2022/05/DSCF8158.jpg
END:VEVENT
BEGIN:VEVENT
DTSTART;TZID=UTC:20221120T150000
DTEND;TZID=UTC:20221120T160000
DTSTAMP:20260422T181356
CREATED:20220923T160520Z
LAST-MODIFIED:20220923T162022Z
UID:33844-1668956400-1668960000@www.littletoller.co.uk
SUMMARY:Manni Coe and Reuben Coe at Kendal Mountain Festival
DESCRIPTION:Join Manni Coe and Reuben Coe at the Kendal Mountain Festival\, part of the #brothertour for their extraordinary memoir brother. do. you. love. me.  Tickets from the festival.
URL:https://www.littletoller.co.uk/event/manni-coe-and-reuben-coe-at-kendal-mountain-festival/
LOCATION:Brewery Arts Centre\, Maltroom\, Kendal\, Brewery Arts Centre\, Maltroom\, Kendal\, LA9 4HE\, United Kingdom
CATEGORIES:Book launches and author talks
ATTACH;FMTTYPE=image/jpeg:https://www.littletoller.co.uk/wp-content/uploads/2022/05/DSCF8158.jpg
END:VEVENT
BEGIN:VEVENT
DTSTART;TZID=UTC:20221116T183000
DTEND;TZID=UTC:20221116T200000
DTSTAMP:20260422T181356
CREATED:20220908T142551Z
LAST-MODIFIED:20220912T112043Z
UID:33795-1668623400-1668628800@www.littletoller.co.uk
SUMMARY:Manni Coe and Reuben Coe at Waterstones\, Liverpool
DESCRIPTION:Join Manni Coe and Reuben Coe at an event chaired by Frank Cottrell Boyce at Waterstones\, Liverpool. Tickets from the bookshop and online.
URL:https://www.littletoller.co.uk/event/manni-coe-and-reuben-coe-at-waterstones-liverpool/
LOCATION:waterstones liverpool\, 12 College Ln\, Liverpool\, L1 3DL\, United Kingdom
CATEGORIES:Book launches and author talks
ATTACH;FMTTYPE=image/jpeg:https://www.littletoller.co.uk/wp-content/uploads/2022/05/DSCF8158.jpg
END:VEVENT
BEGIN:VEVENT
DTSTART;TZID=UTC:20221108T190000
DTEND;TZID=UTC:20221108T200000
DTSTAMP:20260422T181356
CREATED:20220908T141431Z
LAST-MODIFIED:20220908T141431Z
UID:33793-1667934000-1667937600@www.littletoller.co.uk
SUMMARY:Manni and Reuben Coe at Bridport Literary Festival
DESCRIPTION:Join Manni Coe and Reuben Coe at the Bridport Literay Festival. In conversation with Sophy Roberts. \nTickets from the festival.
URL:https://www.littletoller.co.uk/event/manni-and-reuben-coe-at-bridport-literary-festival/
LOCATION:Bull Ballroom\, East Street\, Bridport\, Dorset\, DT6 3LF\, United Kingdom
CATEGORIES:Book launches and author talks
ATTACH;FMTTYPE=image/jpeg:https://www.littletoller.co.uk/wp-content/uploads/2022/05/DSCF8158.jpg
END:VEVENT
BEGIN:VEVENT
DTSTART;TZID=UTC:20221021T190000
DTEND;TZID=UTC:20221021T200000
DTSTAMP:20260422T181356
CREATED:20220923T164007Z
LAST-MODIFIED:20220923T164007Z
UID:33849-1666378800-1666382400@www.littletoller.co.uk
SUMMARY:Manni Coe and Reuben Coe at Three Storeys\, Stroud
DESCRIPTION:At this special event run by Yellow Lighted Bookshop\, Manni Coe and Reuben Coe will be in conversation with Caroline Sanderson. Tickets from Yellow Lighted Bookshop in Nailsworth\, and online.
URL:https://www.littletoller.co.uk/event/manni-coe-and-reuben-coe-at-three-storeys-stroud/
LOCATION:Three Storeys\, Stroud\, Three Storeys\, Stroud\, Gloucestershire\, GL6 0JE\, United Kingdom
CATEGORIES:Book launches and author talks
ATTACH;FMTTYPE=image/jpeg:https://www.littletoller.co.uk/wp-content/uploads/2022/05/DSCF8158.jpg
END:VEVENT
BEGIN:VEVENT
DTSTART;TZID=UTC:20221020T193000
DTEND;TZID=UTC:20221020T203000
DTSTAMP:20260422T181356
CREATED:20220908T122203Z
LAST-MODIFIED:20221017T163332Z
UID:33788-1666294200-1666297800@www.littletoller.co.uk
SUMMARY:Manni Coe and Reuben Coe at Chipping Norton Literary Festival
DESCRIPTION:Mannie Coe and Reuben Coe appearing at Chipping Norton Literary Festival. In conversation with Caroline Sanderson. Tickets from the festival direct.
URL:https://www.littletoller.co.uk/event/manni-coe-and-reuben-coe-at-chipping-norton-literary-festival/
LOCATION:The Theatre\, Chipping Norton
CATEGORIES:Book launches and author talks
ATTACH;FMTTYPE=image/jpeg:https://www.littletoller.co.uk/wp-content/uploads/2022/05/DSCF8158.jpg
END:VEVENT
BEGIN:VEVENT
DTSTART;TZID=UTC:20221015T163000
DTEND;TZID=UTC:20221015T171500
DTSTAMP:20260422T181356
CREATED:20220908T115547Z
LAST-MODIFIED:20220908T115547Z
UID:33784-1665851400-1665854100@www.littletoller.co.uk
SUMMARY:Manni Coe and Reuben Coe at Cheltenham Literature Festival
DESCRIPTION:Join Manni and Reuben Coe at this special free event at the Cheltenham Literature Festival\, in conversation with Caroline Sanderson.
URL:https://www.littletoller.co.uk/event/manni-coe-and-reuben-coe-at-cheltenham-literature-festival/
LOCATION:The Huddle\, Cheltenham Literature Festival\, Feast Cafe\, Cheltenham Literature Festival\, Cheltenham
CATEGORIES:Book launches and author talks
ATTACH;FMTTYPE=image/jpeg:https://www.littletoller.co.uk/wp-content/uploads/2022/05/DSCF8158.jpg
END:VEVENT
BEGIN:VEVENT
DTSTART;TZID=UTC:20220313T163000
DTEND;TZID=UTC:20220313T180000
DTSTAMP:20260422T181356
CREATED:20220125T163028Z
LAST-MODIFIED:20220125T163028Z
UID:32698-1647189000-1647194400@www.littletoller.co.uk
SUMMARY:Robin Walter at the Shaftesbury Book Festival
DESCRIPTION:For the final event at the Shaftesbury Book Festival (‘Reading the Land’)\, Robin Walter will be reading from and talking about his book Living With Trees. \n4.40pm\, Sunday 13th March 2022\, Grovesnor Arms\, Shaftesbury\, Dorset\, SP7 8JA \nTickets: £10. \n 
URL:https://www.littletoller.co.uk/event/robin-walter-at-the-shaftesbury-book-festival/
LOCATION:Grovesnor Arms\, Shaftesbury\, Dorset\, SP7 8JA
CATEGORIES:Book launches and author talks
ATTACH;FMTTYPE=image/jpeg:https://www.littletoller.co.uk/wp-content/uploads/2022/01/9781908213730.jpg
END:VEVENT
BEGIN:VEVENT
DTSTART;TZID=UTC:20220302T183000
DTEND;TZID=UTC:20220302T200000
DTSTAMP:20260422T181356
CREATED:20220125T155000Z
LAST-MODIFIED:20220125T155000Z
UID:32695-1646245800-1646251200@www.littletoller.co.uk
SUMMARY:Davina Quinlivan at Stanfords\, Bristol
DESCRIPTION:Davina Quinlivan will be reading from\, and talking about her memoir Shalimar\, at Stanfords in Bristol on Wednesday 2nd March at 6.30pm. \n29 Corn Street\, Bristol\, BS1 1HT \nTickets available from the shop or from Eventbrite. Tickets are £4.
URL:https://www.littletoller.co.uk/event/davina-quinlivan-at-stanfords-bristol/
LOCATION:Stanfords\, Bristol\, 29 Corn Street\, Bristol\, BS1 1HT\, United Kingdom
CATEGORIES:Book launches and author talks
ATTACH;FMTTYPE=image/png:https://www.littletoller.co.uk/wp-content/uploads/2022/01/Davina-and-book.png
END:VEVENT
BEGIN:VEVENT
DTSTART;TZID=UTC:20211130T180000
DTEND;TZID=UTC:20211130T200000
DTSTAMP:20260422T181356
CREATED:20211015T111805Z
LAST-MODIFIED:20211015T121333Z
UID:32046-1638295200-1638302400@www.littletoller.co.uk
SUMMARY:Pamela Petro at Brassica\, Beaminster
DESCRIPTION:At this very special event the author of The Long Field\, Pamela Petro will be joined by Annie Gathwaite\, author of Cecily\, at Brassica\, Beaminster. \nAs well as hearing from the writers there will be an opportunity to ask questions and have your books signed. \nDrinks and nibbles are included. Doors open at 5.30pm \nTickets available here.
URL:https://www.littletoller.co.uk/event/pamela-petro-at-brassica-beaminster/
LOCATION:Brassica\, 4 the Square\,Beaminster\, DT8 3AS\, 4 The Square\, Beaminster\, DT8 3AS\, United Kingdom
CATEGORIES:Book launches and author talks
ATTACH;FMTTYPE=image/png:https://www.littletoller.co.uk/wp-content/uploads/2021/10/Pamandbook-for-event.png
END:VEVENT
BEGIN:VEVENT
DTSTART;TZID=UTC:20211129T183000
DTEND;TZID=UTC:20211129T200000
DTSTAMP:20260422T181356
CREATED:20211011T162905Z
LAST-MODIFIED:20211015T130138Z
UID:32025-1638210600-1638216000@www.littletoller.co.uk
SUMMARY:Pamela Petro at Stanfords\, Bristol
DESCRIPTION:In this event at the famous travel bookshop in Bristol\, Pam Petro will be reading from and talking about her new book\, The Long Field\, delving into the concept of ‘hiraeth.’ \nTickets available from the shop or online (here) for £4. This price is redeemable against a purchase of The Long Field on the night.
URL:https://www.littletoller.co.uk/event/pamela-petro-at-stanfords-bristol/
LOCATION:Stanfords\, Bristol\, 29 Corn Street\, Bristol\, BS1 1HT\, United Kingdom
CATEGORIES:Book launches and author talks
ATTACH;FMTTYPE=image/png:https://www.littletoller.co.uk/wp-content/uploads/2021/10/Pamandbook-for-event.png
END:VEVENT
BEGIN:VEVENT
DTSTART;TZID=UTC:20211128T173000
DTEND;TZID=UTC:20211128T190000
DTSTAMP:20260422T181356
CREATED:20211015T121037Z
LAST-MODIFIED:20211015T121533Z
UID:32049-1638120600-1638126000@www.littletoller.co.uk
SUMMARY:Pamela Petro at Shrewsbury Literary Festival
DESCRIPTION:At this event\, part of Shrewsbury Literary Festival\, Pamela Petro will be reading from and talking about The Long Field\, her memoir which delves deep into the Welsh concept of hiraeth. \n  \nTickets available from the festival here.  \nTickets also available from Pengwern Books.
URL:https://www.littletoller.co.uk/event/pamela-petro-at-shrewsbury-literary-festival/
LOCATION:Dorset
CATEGORIES:Book launches and author talks
ATTACH;FMTTYPE=image/png:https://www.littletoller.co.uk/wp-content/uploads/2021/10/Pamandbook-for-event.png
END:VEVENT
BEGIN:VEVENT
DTSTART;TZID=UTC:20211118T183000
DTEND;TZID=UTC:20211118T203000
DTSTAMP:20260422T181356
CREATED:20211007T161501Z
LAST-MODIFIED:20211029T113639Z
UID:32003-1637260200-1637267400@www.littletoller.co.uk
SUMMARY:Pamela Petro at Warwick Books
DESCRIPTION:Pamela Petro will be at Warwick Books to read from and sign copies of her memoir The Long Field. \nThursday 18th November\, 6.30pm \n  \nTickets\, £6. Find out more here. Events — Warwick Books \n  \n 
URL:https://www.littletoller.co.uk/event/pamela-petro-at-warwick-books/
LOCATION:warwick books\, warwick\, CV34 4SL\, 24 Market Place\, Warwick\, CV34 4SL\, United Kingdom
CATEGORIES:Book launches and author talks
ATTACH;FMTTYPE=image/png:https://www.littletoller.co.uk/wp-content/uploads/2021/10/Pamandbook-for-event.png
END:VEVENT
BEGIN:VEVENT
DTSTART;TZID=UTC:20211113T193000
DTEND;TZID=UTC:20211113T213000
DTSTAMP:20260422T181356
CREATED:20211108T151234Z
LAST-MODIFIED:20211108T151234Z
UID:32268-1636831800-1636839000@www.littletoller.co.uk
SUMMARY:An audience with Richard Mabey
DESCRIPTION:An Audience with Richard Mabey will be held on Saturday 13th November at Selborne Village Hall\, an event designed as a Q&A session with ‘Britain’s greatest living nature writer’. \n  \nRichard Mabey is author of some forty books including Flora Britannica\, Food for Free and the Whitbread Prize winning biography of Gilbert White. The evening will also be the launch event for The Richard Mabey Library\, the re-publication of four of Mabey’s principal works by specialist publisher Little Toller\, to mark Richard’s 80th Birthday. \n  \nThe audience in Selborne Village Hall will have the opportunity to put questions to Richard who will appear from his home in Norfolk via live video link. The event will also be streamed to a national audience. \n  \nTickets are available on a first-come\, first-served basis and cost £12\, £10 if you are a Friend of Selborne Common (there will be no tickets available on the door). \n  \nThe event\, organised by the Selborne Local Committee of the National Trust\, begins at 7.30 pm with drinks available at the bar from 7.00 pm onwards. Please telephone Sarah Lucas on 01420 587351 to for further information or send an email to friendsofselbornent20@gmail.com
URL:https://www.littletoller.co.uk/event/an-audience-with-richard-mabey/
LOCATION:Dorset
CATEGORIES:Book launches and author talks
ATTACH;FMTTYPE=image/jpeg:https://www.littletoller.co.uk/wp-content/uploads/2021/06/Author-photo-credit-Elizabeth-Orcutt.jpg
END:VEVENT
BEGIN:VEVENT
DTSTART;TZID=UTC:20191105T100000
DTEND;TZID=UTC:20191105T230000
DTSTAMP:20260422T181356
CREATED:20190904T154942Z
LAST-MODIFIED:20190904T154942Z
UID:22792-1572948000-1572994800@www.littletoller.co.uk
SUMMARY:Peter Marren at the Bridport Literary Festival
DESCRIPTION:Where do the many names of butterflies and moths come from? From Red Admirals to Monarchs\, Chimney Sweepers to Coxcomb Prominent\, the eminent naturalist Peter Marren explains them all in this fascinating new book. Here’s a chance to hear him speak about these fascinating creatures\, and uncover the secrets of their word origins. \nTickets are available from the Bridport Literary Festival.
URL:https://www.littletoller.co.uk/event/peter-marren-at-the-bridport-literary-festival/
LOCATION:Bull Ballroom\, East Street\, Bridport\, Dorset\, DT6 3LF\, United Kingdom
CATEGORIES:Book launches and author talks
ATTACH;FMTTYPE=image/jpeg:https://www.littletoller.co.uk/wp-content/uploads/2019/09/Peter-Marren-author-pic-scaled.jpg
END:VEVENT
BEGIN:VEVENT
DTSTART;TZID=UTC:20191103T160000
DTEND;TZID=UTC:20191103T170000
DTSTAMP:20260422T181356
CREATED:20190904T152851Z
LAST-MODIFIED:20190904T152851Z
UID:22788-1572796800-1572800400@www.littletoller.co.uk
SUMMARY:Horatio Clare at the Bridport Literary Festival
DESCRIPTION:Hear the acclaimed author and travel writer Horatio Clare speak about his journey in the footsteps of the young J. S. Bach\, who made a long trip on foot in the winter of 1705. Horatio’s journey\, the subject of a BBC Radio Three programme\, became the source for Something of His Art. Horatio will read from and speak about the book\, and will be signing books afterwards. \n  \nPlease note that tickets are available from the Bridport Literary Festival only.
URL:https://www.littletoller.co.uk/event/horatio-clare-at-the-bridport-literary-festival/
LOCATION:Bull Ballroom\, East Street\, Bridport\, Dorset\, DT6 3LF\, United Kingdom
CATEGORIES:Book launches and author talks
ATTACH;FMTTYPE=image/jpeg:https://www.littletoller.co.uk/wp-content/uploads/2019/09/H-Clare-Pic-author.jpg
END:VEVENT
BEGIN:VEVENT
DTSTART;TZID=UTC:20191101T160000
DTEND;TZID=UTC:20191101T170000
DTSTAMP:20260422T181356
CREATED:20190930T153144Z
LAST-MODIFIED:20190930T153144Z
UID:22867-1572624000-1572627600@www.littletoller.co.uk
SUMMARY:Alex Woodcock at the Yeovil Literary Festival
DESCRIPTION:A chance to hear the stone-mason and writer Alex Woodcock talk about a life made from stone. Alex was inspired by the Romanesque carvings of England’s south-west and finally became a stone carver on Exeter Cathedral. After the event there will be an opportunity to meet Alex and have your book signed. \nPlease note that tickets are available from the festival direct.
URL:https://www.littletoller.co.uk/event/alex-woodcock-at-the-yeovil-literary-festival/
LOCATION:Swan Theatre\, Yeovil\, 138 Park Street\, Yeovil\, BA20 1QT\, United Kingdom
CATEGORIES:Book launches and author talks
ATTACH;FMTTYPE=image/jpeg:https://www.littletoller.co.uk/wp-content/uploads/2019/09/Alex-Woodcock-author-photo-by-Owen-Whitfield-scaled.jpg
END:VEVENT
BEGIN:VEVENT
DTSTART;TZID=UTC:20190711T114500
DTEND;TZID=UTC:20190711T130000
DTSTAMP:20260422T181356
CREATED:20190410T130202Z
LAST-MODIFIED:20190410T130202Z
UID:21514-1562845500-1562850000@www.littletoller.co.uk
SUMMARY:Alex Woodcock at the Ways with Words Festival
DESCRIPTION:11th July\, 11.45am\, The Barn\, Dartington \nAlex Woodcock\, author of King of Dust\, will be appearing at the Ways with Words Festival\, reading from and talking about his wonderful book. Alex will be signing books after the event. \nTickets will be available in May from the Ways with Words Festival. \n 
URL:https://www.littletoller.co.uk/event/alex-woodcock-at-the-ways-with-words-festival/
LOCATION:Dorset
CATEGORIES:Book launches and author talks
ATTACH;FMTTYPE=image/jpeg:https://www.littletoller.co.uk/wp-content/uploads/2019/04/Alex-Woodcock-author-photo-by-Owen-Whitfield-scaled.jpg
END:VEVENT
BEGIN:VEVENT
DTSTART;TZID=UTC:20190704T133000
DTEND;TZID=UTC:20190704T150000
DTSTAMP:20260422T181356
CREATED:20190410T141436Z
LAST-MODIFIED:20190410T141436Z
UID:21521-1562247000-1562252400@www.littletoller.co.uk
SUMMARY:Alex Woodcock at the Penzance Literary Festival
DESCRIPTION:4th July\, 1.30pm\, The Acorn\, Penzance. \nAt this special event\, Alex will be reading from and talking about King of Dust\, a memoir of stone and the south-west of England. After the event he will sign books. \nTickets for the event and further details will be available exclusively from the festival shortly.
URL:https://www.littletoller.co.uk/event/alex-woodcock-at-the-penzance-literary-festival/
LOCATION:The Acorn\, Penzance\, Parade Street\, Penzance\, Cornwall\, TR18 4BU\, United Kingdom
CATEGORIES:Book launches and author talks
ATTACH;FMTTYPE=image/jpeg:https://www.littletoller.co.uk/wp-content/uploads/2019/04/Alex-Woodcock-author-photo-by-Owen-Whitfield-scaled.jpg
END:VEVENT
BEGIN:VEVENT
DTSTART;TZID=UTC:20190629T114500
DTEND;TZID=UTC:20190629T124500
DTSTAMP:20260422T181356
CREATED:20190507T154917Z
LAST-MODIFIED:20190507T154917Z
UID:22065-1561808700-1561812300@www.littletoller.co.uk
SUMMARY:Peter Marren at the Wealden Literary Festival
DESCRIPTION:Join Peter Marren on this fascinating journey through the names of butterflies and moths at this special event. Peter’s most recent book is Emperors\, Admirals and Chimney Sweepers. \nPlease note that this event is run by the festival.
URL:https://www.littletoller.co.uk/event/peter-marren-at-the-wealden-literary-festival/
LOCATION:Wealden Literary Festival\, Boldshaves Garden\, Kent\, TN263RA\, United Kingdom
CATEGORIES:Book launches and author talks
ATTACH;FMTTYPE=image/jpeg:https://www.littletoller.co.uk/wp-content/uploads/2019/05/Peter-Marren-author-pic-scaled.jpg
END:VEVENT
BEGIN:VEVENT
DTSTART;TZID=UTC:20190629T103000
DTEND;TZID=UTC:20190629T113000
DTSTAMP:20260422T181356
CREATED:20190507T154252Z
LAST-MODIFIED:20190507T154252Z
UID:22062-1561804200-1561807800@www.littletoller.co.uk
SUMMARY:Horatio Clare\, Adam Nicolson and Tom Hammick in conversation at the Wealden Literary Festival
DESCRIPTION:Join Horatio Clare in conversation with Adam Nicolson and Tom Hannick as they discuss ‘Genius in the Making’\, a celebration of poetry\, music and the creative process. \nHoratio’s latest book is Something of his Art\, following J. S. Bach’s footsteps in his long walk across Germany in the winter of 1705. \nPlease note that this event is run by the Wealden Literary Festival.
URL:https://www.littletoller.co.uk/event/horatio-clare-wealden/
LOCATION:Wealden Literary Festival\, Boldshaves Garden\, Kent\, TN263RA\, United Kingdom
CATEGORIES:Book launches and author talks
ATTACH;FMTTYPE=image/jpeg:https://www.littletoller.co.uk/wp-content/uploads/2019/05/H-Clare-Pic.jpg
END:VEVENT
BEGIN:VEVENT
DTSTART;TZID=UTC:20190618T190000
DTEND;TZID=UTC:20190618T203000
DTSTAMP:20260422T181356
CREATED:20190508T094934Z
LAST-MODIFIED:20190508T094934Z
UID:22070-1560884400-1560889800@www.littletoller.co.uk
SUMMARY:Paul Kingsnorth in conversation with Charles Foster
DESCRIPTION:Hear the prize-winning writer Paul Kingsnorth read from and speak about his new book\, Savage Gods\, in this conversation with Charles Foster\, author of Being a Beast.
URL:https://www.littletoller.co.uk/event/paul-kingsnorth-in-conversation-with-charles-foster/
LOCATION:Haydon Church Studio\, Haydon Church\, Sherborne\, Dorset\, DT9 5JB\, United Kingdom
CATEGORIES:Book launches and author talks
ATTACH;FMTTYPE=image/jpeg:https://www.littletoller.co.uk/wp-content/uploads/2019/03/9781908213723-scaled.jpg
END:VEVENT
BEGIN:VEVENT
DTSTART;TZID=UTC:20190611T190000
DTEND;TZID=UTC:20190611T203000
DTSTAMP:20260422T181356
CREATED:20190410T101902Z
LAST-MODIFIED:20190410T101902Z
UID:21493-1560279600-1560285000@www.littletoller.co.uk
SUMMARY:Launch for King of Dust\, Waterstones in Truro
DESCRIPTION:We’re delighted to invite you to the launch party for Alex Woodcock’s extraordinary book King of Dust. \nSet largely in south-west England\, this extraordinary biography charts the journey from a life in academia to becoming a stone mason working on Exeter cathedral’s internationally significant west front\, but it’s also much more than that – the story of a life transformed by a love of the Romanesque sculpture of this part of England. \nJoin us and the fine booksellers of Waterstones in Truro for an evening of readings\, and for the opportunity to meet Alex and hear more about his life and work. \nTickets will be available exclusively from Waterstones in Truro.
URL:https://www.littletoller.co.uk/event/launch-for-king-of-dust-waterstones-in-truro/
LOCATION:waterstones Truro\, 11 Boscawen Street\, Truro\, Cornwall\, TR1 2QU\, United Kingdom
CATEGORIES:Book launches and author talks
ATTACH;FMTTYPE=image/jpeg:https://www.littletoller.co.uk/wp-content/uploads/2019/04/Alex-Woodcock-author-photo-by-Owen-Whitfield-scaled.jpg
END:VEVENT
BEGIN:VEVENT
DTSTART;TZID=UTC:20190608T113000
DTEND;TZID=UTC:20190608T123000
DTSTAMP:20260422T181356
CREATED:20190507T132850Z
LAST-MODIFIED:20190507T132850Z
UID:22050-1559993400-1559997000@www.littletoller.co.uk
SUMMARY:Alex Woodcock on King of Dust at Sidmouth Literary Festival
DESCRIPTION:Come and hear Alex Woodcock talk about his life and work as a cathedral stonemason and his love affair with the Romanesque at this special event. Alex will sign books after the event. \nTickets are available from the festival website or from Winstone’s Bookshop in Sidmouth.
URL:https://www.littletoller.co.uk/event/alex-woodcock-on-king-of-dust-at-sidmouth-literary-festival/
LOCATION:kennaway house\, Cellar Bar\, Kennaway House\, Sidmouth\, EX10 8NG\, United Kingdom
CATEGORIES:Book launches and author talks
ATTACH;FMTTYPE=image/jpeg:https://www.littletoller.co.uk/wp-content/uploads/2019/02/Alex-Woodcock.jpg
END:VEVENT
END:VCALENDAR